BEGIN:VCALENDAR
VERSION:2.0
PRODID:-//Centre de Médiation asbl - ECPv4.6.18//NONSGML v1.0//EN
CALSCALE:GREGORIAN
METHOD:PUBLISH
X-WR-CALNAME:Centre de Médiation asbl
X-ORIGINAL-URL:http://www.mediation.lu
X-WR-CALDESC:Events for Centre de Médiation asbl
BEGIN:VEVENT
DTSTART;TZID=Europe/Paris:20180615T193000
DTEND;TZID=Europe/Paris:20180615T213000
DTSTAMP:20180701T123208
CREATED:20180418T143736Z
LAST-MODIFIED:20180529T065618Z
UID:1351-1529091000-1529098200@www.mediation.lu
SUMMARY:PAR-DELÀ LA RUPTURE - théâtre-débat
DESCRIPTION:PAR-DELÀ LA RUPTURE\n\nDavid a pris la décision de rompre. Nadia a pris cette nouvelle en pleine figure. Ce couple mourant vit ses derniers jours de vie commune.\nIls vont déposer ce qu’il reste de leur couple auprès de 2 professionnel(le)s de la médiation.\nLeur demande: que les médiateur(trice)s les accompagnent pour qu’ils puissent se séparer dignement et construire leur futur respectif.\nPour eux-mêmes mais surtout pour leur 2 enfants.\nA ce moment précis de leur vie\, leur monde s’effondre et leur avenir n’est que béance.\nLe public découvrira\, comme s’il y était\, au travers de 3 moments clés\, comment se déroule un processus de médiation.\nIl percevra également en quoi consiste le rôle de ces professionnel(le)s encore méconnu(e)s; les médiateur(trice)s. »\nAprès la représentation\, se déroulera un échange entre public\, comédiens et médiateur …\n  \nDate : VENDREDI 15 JUIN 2018 à 19h30 \nLieu : Abbaye de NEUMÜNSTER – Salle DUNE \nPrix : 10\,- Euros/place  – paiement directement sur le site de EVENTBRITE          \nPOSSIBILITÉ de PAYER SUR PLACE ou via VIREMENT BANCAIRE – il faudra alors cliquer sur  « Autres options de paiement   Afficher » qui se trouve sous les possibilités de paiement PAYPAL et autres … \n  \n
URL:http://www.mediation.lu/event/par-dela-la-rupture/
LOCATION:20\, rue Münster\, Luxembourg\, 2160\, Luxembourg
CATEGORIES:20 ans Centre de Médiation asbl
ORGANIZER;CN="Centre%20de%20M%C3%A9diation%20asbl":MAILTO:info@mediation.lu
END:VEVENT
END:VCALENDAR