BEGIN:VCALENDAR
VERSION:2.0
PRODID:-//Centre de Médiation asbl - ECPv4.5.5//NONSGML v1.0//EN
CALSCALE:GREGORIAN
METHOD:PUBLISH
X-WR-CALNAME:Centre de Médiation asbl
X-ORIGINAL-URL:http://www.mediation.lu
X-WR-CALDESC:Events for Centre de Médiation asbl
BEGIN:VEVENT
DTSTART;TZID=Europe/Paris:20171125T090000
DTEND;TZID=Europe/Paris:20171125T170000
DTSTAMP:20170621T124521
CREATED:20170530T090850Z
LAST-MODIFIED:20170530T090850Z
UID:1005-1511600400-1511629200@www.mediation.lu
SUMMARY:IFEN - Initiation à la médiation
DESCRIPTION:Formations continues proposées par l’Institut de formation de l’Éducation nationale (IFEN) : \n Initiation à la médiation & La médiation en pratique\n\n\n Initiation à la médiation (Code: A-d-13) \n\n\nDate : le  samedi 25 novembre 2017 de 9 à 12 et de 13 à 17 heures\n\n\nLieu : Centre de Médiation a.s.b.l. – Salle de conférence – 2e étage–entrée cour intérieure\n\n\nInformations : Institut de Formation continue\n\n\n\n\n
URL:http://www.mediation.lu/event/ifen-initiation/
LOCATION:87\, route de Thionville\, Luxembourg\, 2611\, Luxembourg
END:VEVENT
END:VCALENDAR