BEGIN:VCALENDAR
VERSION:2.0
PRODID:-//Centre de Médiation asbl - ECPv4.5.5//NONSGML v1.0//EN
CALSCALE:GREGORIAN
METHOD:PUBLISH
X-WR-CALNAME:Centre de Médiation asbl
X-ORIGINAL-URL:http://www.mediation.lu
X-WR-CALDESC:Events for Centre de Médiation asbl
BEGIN:VEVENT
DTSTART;TZID=Europe/Paris:20170215T183000
DTEND;TZID=Europe/Paris:20170215T204500
DTSTAMP:20170621T123351
CREATED:20160908T102410Z
LAST-MODIFIED:20170203T083655Z
UID:631-1487183400-1487191500@www.mediation.lu
SUMMARY:GROUPE DE COPARENTALITÉ (langue : LUX)
DESCRIPTION:\n\nGroupe de Coparentalité\nSoirées d’informations et d’échanges\nComment rester parents sans être en couple ? \nQuels sont les bénéfices pour vos enfants et pour vous ? \nComment les enfants vivent-ils vos conflits ? \nComment faire pour communiquer avec l’autre parent ? \nLes soirées sont organisées au Centre de Médiation asbl en date du:\nMercredi 12 octobre 2016 en luxembourgeois\nMercredi 16 novembre 2016 en français\nMercredi 14 décembre 2016 en luxembourgeois\nMercredi 25 janvier 2017 en portugais\nMercredi 15 février 2017 en luxembourgeois\nMercredi 15 mars 2017 en français\nMercredi 3 mai 2017 en luxembourgeois\nMercredi 14 juin 2017 en portugais\nL’horaire de ces soirées est de 18h30 à +/- 20h45\n  \n  \nInscription par mail ou par téléphone au :\nCentre de Médiation asbl \n87\, route de Thionville \nL-2611 Luxembourg \n352 27 48 34 – 53 \ncoparentalite@mediation.lu \n
URL:http://www.mediation.lu/event/groupe-de-parentalite-langue-lux/
LOCATION:87\, route de Thionville\, Luxembourg\, 2611\, Luxembourg
CATEGORIES:Groupe Coparentalité
ORGANIZER;CN="Centre%20de%20M%C3%A9diation%20asbl":MAILTO:coparentalite@mediation.lu
END:VEVENT
END:VCALENDAR