BEGIN:VCALENDAR
VERSION:2.0
PRODID:-//Centre de Médiation asbl - ECPv4.5.5//NONSGML v1.0//EN
CALSCALE:GREGORIAN
METHOD:PUBLISH
X-WR-CALNAME:Centre de Médiation asbl
X-ORIGINAL-URL:http://www.mediation.lu
X-WR-CALDESC:Events for Centre de Médiation asbl
BEGIN:VEVENT
DTSTART;TZID=Europe/Paris:20161130T123000
DTEND;TZID=Europe/Paris:20161130T134500
DTSTAMP:20170621T125204
CREATED:20161110T095025Z
LAST-MODIFIED:20161110T102205Z
UID:709-1480509000-1480513500@www.mediation.lu
SUMMARY:Invitation pour les professionnels  -  “GROUPE DE COPARENTALITÉ”
DESCRIPTION:Inscription pour le 30/11/2016\nInvitation pour les professionnels à la présentation \nDes soirées “GROUPE DE COPARENTALITÉ” \nMERCREDI 30 NOVEMBRE 2016 De 12h30 à 13h45 – centre_mediation_asbl_communique_groupe_coparentalite_2016_10 \n\nNous vous invitons à la présentation des soirées « Groupe de Coparentalité » que le Centre de Médiation asbl a mis en place. \nEn effet\, au cours des dernières années\, nous avons constaté une augmentation des demandes de la part de parents\, en situation de divorce ou de séparation\, concernant leurs droits\, les droits et besoins de leurs enfants et la coparentalité. \nCes soirées offrent aux parents un lieu d’échanges et d’informations. \nDes groupes similaires existent déjà depuis plusieurs années dans différents pays avec des répercussions positives sur les familles concernées. \nLors de ces soirées\, nous souhaitons expliquer aux parents\, l’impact que leurs conflits d’adultes peut avoir sur les enfants\, mais aussi apporter des pistes pour maintenir/créer un climat de collaboration parentale. \nLes groupes de coparentalité auront lieu une fois par mois\, les mercredis soirs\, en alternant les langues. Pour l’instant nous proposons les groupes soit en luxembourgeois\, soit en français ou soit en portugais. \nLes parents ne participent qu’à une seule soirée (les deux parents ne devant pas forcément participer à la même soirée)\, ce service est proposé gratuitement. \nNous vous présenterons plus en détails le déroulement de ces soirées\, dans l’espoir de vous permettre d’en évaluer l’intérêt pour votre public cible. \nMERCREDI 30 NOVEMBRE 2016 \nDe 12h30 à 13h45 \n  \nSoucieux de vous accueillir au mieux (des sandwichs seront proposés)\, nous vous demandons de bien vouloir nous informer de votre présence : \n  \nPar téléphone : +352 27 48 34 \nLundi / Mardi / Jeudi et Vendredi entre 09h30 et 11h30 ou entre 14h00 et 16h00 \nMercredi de 14h00 à 16h00 \n(ou message sur notre répondeur) \nPar e-mail : coparentalite@mediation.lu \n
URL:http://www.mediation.lu/event/invitation-pour-les-professionnels-a-la-presentation-des-soirees-groupe-de-coparentalite-mercredi-30-novembre-2016-de-12h30-a-13h45/
LOCATION:87\, route de Thionville\, Luxembourg\, 2611\, Luxembourg
CATEGORIES:Groupe Coparentalité
ORGANIZER;CN="Centre%20de%20M%C3%A9diation%20asbl":MAILTO:coparentalite@mediation.lu
END:VEVENT
END:VCALENDAR