BEGIN:VCALENDAR
VERSION:2.0
PRODID:-//Centre de Médiation asbl - ECPv4.6.18//NONSGML v1.0//EN
CALSCALE:GREGORIAN
METHOD:PUBLISH
X-WR-CALNAME:Centre de Médiation asbl
X-ORIGINAL-URL:http://www.mediation.lu
X-WR-CALDESC:Events for Centre de Médiation asbl
BEGIN:VEVENT
DTSTART;TZID=Europe/Paris:20171020T150000
DTEND;TZID=Europe/Paris:20171020T190000
DTSTAMP:20180701T123001
CREATED:20170906T135546Z
LAST-MODIFIED:20171110T125041Z
UID:1152-1508511600-1508526000@www.mediation.lu
SUMMARY:Semaine Mondiale de la Médiation - Portes Ouvertes
DESCRIPTION:L’ALMA asbl (www.alma-mediation.lu ) invite à la semaine mondiale de la médiation au Luxembourg qui se tiendra du 16 au 21 octobre 2017. \nDans le cadre de la semaine mondiale de la médiation : \nLe vendredi 20 octobre 2017 se dérouleront des Portes Ouvertes dans différents services de Médiation \nAu Centre de Médiation asbl : \nVENDREDI 20/10/2017 de 15 à 19hrs \n \n
URL:http://www.mediation.lu/event/semaine-mondiale-de-la-mediation-portes-ouvertes/
LOCATION:87\, route de Thionville\, Luxembourg\, 2611\, Luxembourg
ATTACH;FMTTYPE=image/jpeg:http://www.mediation.lu/wp-content/uploads/2017/09/SMM_PO_CMasbl_2017_10_20_OK.jpg
ORGANIZER;CN="Centre%20de%20M%C3%A9diation%20asbl":MAILTO:info@mediation.lu
END:VEVENT
END:VCALENDAR