BEGIN:VCALENDAR
VERSION:2.0
PRODID:-//Centre de Médiation asbl - ECPv4.6.18//NONSGML v1.0//EN
CALSCALE:GREGORIAN
METHOD:PUBLISH
X-WR-CALNAME:Centre de Médiation asbl
X-ORIGINAL-URL:http://www.mediation.lu
X-WR-CALDESC:Events for Centre de Médiation asbl
BEGIN:VEVENT
DTSTART;TZID=Europe/Paris:20180131T183000
DTEND;TZID=Europe/Paris:20180131T204500
DTSTAMP:20180701T124520
CREATED:20171110T110255Z
LAST-MODIFIED:20180130T135944Z
UID:1185-1517423400-1517431500@www.mediation.lu
SUMMARY:GROUPE DE COPARENTALITÉ (langue : LUX)
DESCRIPTION:\nGroupe de Coparentalité\nMercredi 31 janvier 2018 en luxembourgeois \nSoirées d’informations et d’échanges\nComment rester parents sans être en couple ? \nQuels sont les bénéfices pour vos enfants et pour vous ? \nComment les enfants vivent-ils vos conflits ? \nComment faire pour communiquer avec l’autre parent ? \nLes soirées sont organisées au Centre de Médiation asbl en date du:\n2018\nMercredi 31 janvier 2018 en luxembourgeois \nMercredi 28 février 2018 en français\nL’horaire de ces soirées est de 18h30 à +/- 20h45\n  \nInscription par mail ou par téléphone au :\nCentre de Médiation asbl \n87\, route de Thionville \nL-2611 Luxembourg \n352 27 48 34 – 53 \ncoparentalite@mediation.lu \n
URL:http://www.mediation.lu/event/groupe-de-coparentalite/
LOCATION:87\, route de Thionville\, Luxembourg\, 2611\, Luxembourg
CATEGORIES:Groupe Coparentalité
ORGANIZER;CN="Centre%20de%20M%C3%A9diation%20asbl":MAILTO:info@mediation.lu
END:VEVENT
END:VCALENDAR