BEGIN:VCALENDAR
VERSION:2.0
PRODID:-//Centre de Médiation asbl - ECPv4.6.18//NONSGML v1.0//EN
CALSCALE:GREGORIAN
METHOD:PUBLISH
X-WR-CALNAME:Centre de Médiation asbl
X-ORIGINAL-URL:http://www.mediation.lu
X-WR-CALDESC:Events for Centre de Médiation asbl
BEGIN:VEVENT
DTSTART;VALUE=DATE:20170324
DTEND;VALUE=DATE:20170326
DTSTAMP:20180701T124350
CREATED:20160908T110037Z
LAST-MODIFIED:20171110T125230Z
UID:642-1490313600-1490486399@www.mediation.lu
SUMMARY:FORMATION CONTINUE pour MÉDIATEUR(TRICE)S - 24 & 25 MARS 2017
DESCRIPTION:Le Centre de Médiation asbl organise ces deux journées de formation continue en collaboration avec \n\nle Ministère de l’Education nationale\, de l’Enfance et de la Jeunesse \nl’Association Internationale Francophone des Intervenants auprès des familles séparées – AIFI\n\nL’INVITATION AU FORMAT PDF\n \nMe Céline VALLIÈRES\nVendredi 24 mars 2017 : L’IMMENSE DÉFI DE L’IMPARTIALITÉ \nL’un des socles de la médiation est l’intervention impartiale d’un tiers qui est le médiateur. Cette impartialité est primordiale et son absence\, réelle ou apparente\, peut faire avorter le processus… \nCette journée  visera : à sensibiliser le médiateur à ses pièges intérieurs\, à ce qu’il reconnaisse ses forces tout autant qu’à lui donner des stratégies afin d’offrir la plus grande impartialité possible. \nPremière journée très riche en réflexions\, échanges\, … \nGrand merci à Céline Vallières pour toute son énergie\, son professionnalisme\, son humilité et son humour  … \n  \n \nQuelques photos de cette première journée de formation : \n                                        \n  \nSamedi 25 mars 2017 : LES TECHNIQUES D’IMPACT : objets et métaphores\nL’être humain apprend à partir de tous ses sens et il emmagasine beaucoup d’informations et de solutions dans son inconscient… \nCette journée proposera d’utiliser des techniques d’impact soit la narration de métaphores et l’utilisation d’objets pour solliciter l’imaginaire\, rejoindre la partie inconsciente\, calmer les émotions et distraire la raison. Les techniques d’impact demandent d’oser en médiation… \n  \nIntervenante : Madame Céline VALLIIÈRES (CA) – avocate\, médiatrice familiale et formatrice \nLangue : Ces formations se dérouleront en langue française \nDates:     \n\nVendredi 24 mars 2017 : L’IMMENSE DÉFI DE L’IMPARTIALITÉ\nSamedi 25 mars 2017 : LES TECHNIQUES D’IMPACT : objets et métaphores\n\nHoraire : de 9h00 à 12h00 et de 13h00 à +/-17h00  \n Frais de participation : POSSIBILITÉ DE PARTICIPER A UNE SEULE JOURNÉE (en fonction des places disponibles) \n\n\n\n\nLes 2 journées\nUne seule journée\n\n\n\nFrais de participation \n\n280\,00 €\n160\,00 €\n\n\n\nTarif spécial \n\n\n\n\nMembres ALMA asbl \n\n240\,00 €\n140\,00 €\n\n\n\nMembres AIFI \n\n\n\n\nEtudiant(e)s Master en Médiation \n\n\n\n\n  \nLe nombre de places étant limité (20 personnes maximum)\, il est indispensable de s’inscrire via la fiche ci-jointe et de la renvoyer par courrier\, courriel ou fax au Centre de Médiation asbl – FICHE D’INSCRIPTION\n \n  \nNous nous réjouissons d’ores et déjà de ces futures journées de formation avec Me VALLIÈRES avec qui nous avions déjà eu la chance de collaborer en avril 2016. \nFormation continue du 23/04/2016 – Le groupe avec la formatrice Me Céline VALLIÈRES\n  \n
URL:http://www.mediation.lu/event/formation-continue-pour-mediateurtrices/
LOCATION:87\, route de Thionville\, Luxembourg\, 2611\, Luxembourg
CATEGORIES:Formation Continue pour médiateur(trice)s
ORGANIZER;CN="Centre%20de%20M%C3%A9diation%20asbl":MAILTO:info@mediation.lu
END:VEVENT
END:VCALENDAR